BEGIN:VCALENDAR
VERSION:2.0
PRODID:-//ChamberMaster//Event Calendar 2.0//EN
METHOD:PUBLISH
X-PUBLISHED-TTL:P3D
REFRESH-INTERVAL:P3D
CALSCALE:GREGORIAN
BEGIN:VEVENT
DTSTART;VALUE=DATE:20100429
DTEND;VALUE=DATE:20100430
TRANSP:TRANSPARENT
X-MICROSOFT-CDO-ALLDAYEVENT:TRUE
SUMMARY:Beaufort Three Century Project - Beaufort's Live Oak Tree
DESCRIPTION:These forums give a historical perspective while creating a community dialogue about Beaufort's future.  Each forum may take a different approach to the topic including panels\, films and other media to spur thinking and creativitiy from the audience about key questions such as:  \nWhat is important from our past to remember\, preserve and honor ?  \nWhat do we value as Beaufortonians ?  \nWhat do we want Beaufort to be in the future ?  \nThis is a good way for people who are new to the community and for those who have been here for a long time\, to contribute historical context and bring the "Beaufort" way into the conversation.\n\nBeaufort's Live Oak Tree Legacy and Community Forestry\nTopic Forum:  Past\, Present & Future Symposium\nSchedule: Once a month February thru December 2010\nTours: 3:00pm - until ......\nCost: Free
X-ALT-DESC;FMTTYPE=text/html:These forums give a historical perspective while creating a community dialogue about Beaufort's future.  Each forum may take a different approach to the topic including panels\, films and other media to spur thinking and creativitiy from the audience about key questions such as:  \nWhat is important from our past to remember\, preserve and honor ?  \nWhat do we value as Beaufortonians ?  \nWhat do we want Beaufort to be in the future ?  \nThis is a good way for people who are new to the community and for those who have been here for a long time\, to contribute historical context and bring the "Beaufort" way into the conversation.\n\nBeaufort's Live Oak Tree Legacy and Community Forestry\nTopic Forum:  Past\, Present & Future Symposium\nSchedule: Once a month February thru December 2010\nTours: 3:00pm - until ......\nCost: Free
LOCATION:
UID:e.1212.3791
SEQUENCE:3
DTSTAMP:20260424T135940Z
URL:http://business.beaufortchamber.org/events/details/beaufort-three-century-project-beaufort-s-live-oak-tree-04-29-2010-3791
END:VEVENT

END:VCALENDAR
