BEGIN:VCALENDAR
VERSION:2.0
PRODID:-//ChamberMaster//Event Calendar 2.0//EN
METHOD:PUBLISH
X-PUBLISHED-TTL:P3D
REFRESH-INTERVAL:P3D
CALSCALE:GREGORIAN
BEGIN:VEVENT
DTSTART;VALUE=DATE:20100909
DTEND;VALUE=DATE:20100910
TRANSP:TRANSPARENT
X-MICROSOFT-CDO-ALLDAYEVENT:TRUE
SUMMARY:Beaufort Three Century Project - Original Play 'Home'
DESCRIPTION:Come out and see an original play by Louise Trask\n\nSchedule:\nThursday\, September 9    7:00pm - 8:30pm\nFriday\, September 10       7:00pm - 8:30pm\nSaturday\, September 11   7:00pm - 8:30pm\nSunday\, September 12     3:00pm - 4:30pm\nCost:  Free
X-ALT-DESC;FMTTYPE=text/html:Come out and see an original play by Louise Trask\n\nSchedule:\nThursday\, September 9    7:00pm - 8:30pm\nFriday\, September 10       7:00pm - 8:30pm\nSaturday\, September 11   7:00pm - 8:30pm\nSunday\, September 12     3:00pm - 4:30pm\nCost:  Free
LOCATION:
UID:e.1212.3800
SEQUENCE:3
DTSTAMP:20260424T053912Z
URL:http://business.beaufortchamber.org/events/details/beaufort-three-century-project-original-play-home-09-09-2010-3800
END:VEVENT

END:VCALENDAR
