BEGIN:VCALENDAR
VERSION:2.0
PRODID:-//ChamberMaster//Event Calendar 2.0//EN
METHOD:PUBLISH
X-PUBLISHED-TTL:P3D
REFRESH-INTERVAL:P3D
CALSCALE:GREGORIAN
BEGIN:VEVENT
DTSTART:20140322T203000Z
DTEND:20140322T233000Z
X-MICROSOFT-CDO-ALLDAYEVENT:FALSE
SUMMARY:Beaufort Twilight Run
DESCRIPTION:The event is located in the village of Habersham and benefits Riverview Charter School in Beaufort. Our mission is to host a fun\, competitive and memorable annual event for Beaufort.\n\n\n\nFor more information and to register online visit www.BeaufortTwilightRun.com
X-ALT-DESC;FMTTYPE=text/html:<span francois="" inline="">The event is located in the village of Habersham and benefits Riverview Charter School in Beaufort. </span><span francois="" inline="">Our mission is to host a fun\, competitive and memorable annual event for Beaufort.</span><br />\n<br />\nFor more information and to register online visit www.BeaufortTwilightRun.com<br />\n<br type="_moz" />\n
LOCATION:Habersham Marketplace 11 Market\, Beaufort\, SC 29906.
UID:e.1212.5234
SEQUENCE:3
DTSTAMP:20260419T160854Z
URL:http://business.beaufortchamber.org/events/details/beaufort-twilight-run-03-22-2014-5234
END:VEVENT

END:VCALENDAR
