BEGIN:VCALENDAR
VERSION:2.0
PRODID:-//ChamberMaster//Event Calendar 2.0//EN
METHOD:PUBLISH
X-PUBLISHED-TTL:P3D
REFRESH-INTERVAL:P3D
CALSCALE:GREGORIAN
BEGIN:VEVENT
DTSTART;VALUE=DATE:20120731
DTEND;VALUE=DATE:20120801
TRANSP:TRANSPARENT
X-MICROSOFT-CDO-ALLDAYEVENT:TRUE
SUMMARY:Belk Chamber Member & Employees Appreciation Day
DESCRIPTION:We'd like to say a great big THANK YOU to the Chamber of Commerce for its pivotal role in the economic vibrancy of our community.  In appreciation of the Chamber's many efforts\, Belk would like to present an all day savings pass for all Chamber members.  Our friendly associates are eager to assist you in finding everything you need and want at Belk.  We look forward to seeing you on Tuesday
X-ALT-DESC;FMTTYPE=text/html:We&#39\;d like to say a great big THANK YOU to the Chamber of Commerce for its pivotal role in the economic vibrancy of our community.&nbsp\; In appreciation of the Chamber&#39\;s many efforts\, Belk would like to present an all day savings pass for all Chamber members.&nbsp\; Our friendly associates are eager to assist you in finding everything you need and want at Belk.&nbsp\; We look forward to seeing you on Tuesday
LOCATION:Crosscreek Shopping Center\, 332 Robert Smalls Parkway\, Beaufort\, SC
UID:e.1212.4562
SEQUENCE:3
DTSTAMP:20260422T191234Z
URL:http://business.beaufortchamber.org/events/details/belk-chamber-member-employees-appreciation-day-07-31-2012-4562
END:VEVENT

END:VCALENDAR
