BEGIN:VCALENDAR
VERSION:2.0
PRODID:-//ChamberMaster//Event Calendar 2.0//EN
METHOD:PUBLISH
X-PUBLISHED-TTL:P3D
REFRESH-INTERVAL:P3D
CALSCALE:GREGORIAN
BEGIN:VEVENT
DTSTART:20130427T100000Z
DTEND:20130427T140000Z
X-MICROSOFT-CDO-ALLDAYEVENT:FALSE
SUMMARY:Belk Charity Days
DESCRIPTION:Belk of Beaufort\n\nPresents\n\n \n\nCharity Sale\n\nSpring 2013\n\nApril 27\, 2013\n\n4 Hours only!!!\n\n 6 to 10AM\n\n \n\nTickets available from many local charities\, schools\, and non-profit organizations.\n\n \n\nMerchandise pre-selection recommended.\n\n \n\n\n	\n		Music courtesy of Beaufort Shag Club\n\n \n\n\n	\n		6 -8AM Coffee and pastries \n\n \n\n\n	\n		8-10AM  Breakfast provided by \n\nSummit Place\n\n \n\nFor more information call 843-522-9599
X-ALT-DESC;FMTTYPE=text/html:<span style="font-size: 22px\;"><strong><span style="font-family: verdana\,sans-serif\;">Belk of Beaufort</span></strong><br />\n<strong><span style="font-family: verdana\,sans-serif\;">Presents</span></strong></span><br />\n&nbsp\;<br />\n<span style="font-size: 22px\;"><strong><span style="font-family: verdana\,sans-serif\;">Charity Sale</span></strong><br />\n<strong><span style="font-family: verdana\,sans-serif\;">Spring 2013</span></strong><br />\n<strong><span style="font-family: verdana\,sans-serif\;">April 27\, 2013</span></strong><br />\n<strong><span style="font-family: verdana\,sans-serif\;">4 Hours only!!!</span></strong><br />\n<strong><span style="font-family: verdana\,sans-serif\;">&nbsp\;6 to 10AM</span></strong><br />\n&nbsp\;<br />\n<strong><span style="font-family: verdana\,sans-serif\;">Tickets available from many local charities\, schools\, and non-profit organizations.</span></strong></span><br />\n&nbsp\;<br />\n<strong><span style="font-size: 16pt\;"><span style="font-family: verdana\,sans-serif\;">Merchandise pre-selection recommended.</span></span></strong><br />\n&nbsp\;<br />\n<ul style="list-style-type: circle\;">\n	<li align="center" style="text-align: center\;">\n		<strong><span style="font-size: 16pt\;"><span style="font-family: verdana\,sans-serif\;">Music courtesy of Beaufort Shag Club</span></span></strong></li>\n</ul>\n&nbsp\;<br />\n<ul style="list-style-type: circle\;">\n	<li align="center" style="text-align: center\;">\n		<strong><span style="font-size: 16pt\;"><span style="font-family: verdana\,sans-serif\;">6 -8AM Coffee and pastries </span></span></strong></li>\n</ul>\n&nbsp\;<br />\n<ul style="list-style-type: circle\;">\n	<li align="center" style="text-align: center\;">\n		<strong><span style="font-size: 16pt\;"><span style="font-family: verdana\,sans-serif\;">8-10AM&nbsp\; Breakfast provided by </span></span></strong></li>\n</ul>\n<strong><span style="font-size: 16pt\;"><span style="font-family: verdana\,sans-serif\;">Summit Place</span></span></strong><br />\n&nbsp\;<br />\n<strong><span style="font-size: 16pt\;"><span style="font-family: verdana\,sans-serif\;">For more information call 843-522-9599</span></span></strong><br />\n
LOCATION:Belk\, Crosscreek Shopping Center\, Beaufort\, SC
UID:e.1212.4983
SEQUENCE:3
DTSTAMP:20260422T065822Z
URL:http://business.beaufortchamber.org/events/details/belk-charity-days-04-27-2013-4983
END:VEVENT

END:VCALENDAR
