BEGIN:VCALENDAR
VERSION:2.0
PRODID:-//ChamberMaster//Event Calendar 2.0//EN
METHOD:PUBLISH
X-PUBLISHED-TTL:P3D
REFRESH-INTERVAL:P3D
CALSCALE:GREGORIAN
BEGIN:VEVENT
DTSTART;VALUE=DATE:20091107
DTEND;VALUE=DATE:20091108
TRANSP:TRANSPARENT
X-MICROSOFT-CDO-ALLDAYEVENT:TRUE
SUMMARY:Belk Charity Sale
DESCRIPTION:Take advantage of tremendous once-a-season savings.  Purchase $5 ticket to benefit your favorite charity from over 30 local non-profits or charities and get fantastic savings on Belk products including rarely discounted brands.  \nRegister for your chance to win a $1\,000 shopping spree !\nContact your local Belk's store manager for information.
X-ALT-DESC;FMTTYPE=text/html:Take advantage of tremendous once-a-season savings.  Purchase $5 ticket to benefit your favorite charity from over 30 local non-profits or charities and get fantastic savings on Belk products including rarely discounted brands.  \nRegister for your chance to win a $1\,000 shopping spree !\nContact your local Belk's store manager for information.
LOCATION:
UID:e.1212.3681
SEQUENCE:3
DTSTAMP:20260424T205617Z
URL:http://business.beaufortchamber.org/events/details/belk-charity-sale-11-07-2009-3681
END:VEVENT

END:VCALENDAR
