BEGIN:VCALENDAR
VERSION:2.0
PRODID:-//ChamberMaster//Event Calendar 2.0//EN
METHOD:PUBLISH
X-PUBLISHED-TTL:P3D
REFRESH-INTERVAL:P3D
CALSCALE:GREGORIAN
BEGIN:VEVENT
DTSTART;VALUE=DATE:20091027
DTEND;VALUE=DATE:20091028
TRANSP:TRANSPARENT
X-MICROSOFT-CDO-ALLDAYEVENT:TRUE
SUMMARY:Belk's Military and Government Appreciation Day
DESCRIPTION:We would like to invite all our Government Personnel out for an evening of light refreshements\, special exclusive discount and have you register for some great free gifts !\nOpen to Federal Employees\, Police\, Firemen\, County workers\, County courthouse\, Civil Servant\, Post Office\, Military Reserves\, Recruiting offices\, and State workers with valid ID\nCost: Free
X-ALT-DESC;FMTTYPE=text/html:We would like to invite all our Government Personnel out for an evening of light refreshements\, special exclusive discount and have you register for some great free gifts !\nOpen to Federal Employees\, Police\, Firemen\, County workers\, County courthouse\, Civil Servant\, Post Office\, Military Reserves\, Recruiting offices\, and State workers with valid ID\nCost: Free
LOCATION:
UID:e.1212.3649
SEQUENCE:3
DTSTAMP:20260424T221736Z
URL:http://business.beaufortchamber.org/events/details/belk-s-military-and-government-appreciation-day-10-27-2009-3649
END:VEVENT

END:VCALENDAR
