BEGIN:VCALENDAR
VERSION:2.0
PRODID:-//ChamberMaster//Event Calendar 2.0//EN
METHOD:PUBLISH
X-PUBLISHED-TTL:P3D
REFRESH-INTERVAL:P3D
CALSCALE:GREGORIAN
BEGIN:VEVENT
DTSTART:20120922T150000Z
DTEND:20120922T190000Z
X-MICROSOFT-CDO-ALLDAYEVENT:FALSE
SUMMARY:Best of Beaufort Bridal Show
DESCRIPTION:GETTING MARRIED IN THE LOWCOUNTRY?  Attend the "Best of Beaufort" Brida Show for an insider's perspective in planning your Wedding.  Meet Beaufort's top wedding professionals conveniently gathered under one roof and narrow your search in creating the wedding of your dreams.  Produced by Jamie Leigh\, Green Room and Garden\, this fantastic event will feature the best Wedding vendors the Lowcountry offers.  Contact Susan Basile: 843-379-9800/susan.basile@hilton.com
X-ALT-DESC;FMTTYPE=text/html:GETTING MARRIED IN THE LOWCOUNTRY?&nbsp\; Attend the &quot\;Best of Beaufort&quot\; Brida Show for an insider&#39\;s perspective in planning your Wedding.&nbsp\; Meet Beaufort&#39\;s top wedding professionals conveniently gathered under one roof and narrow your search in creating the wedding of your dreams.&nbsp\; Produced by Jamie Leigh\, Green Room and Garden\, this fantastic event will feature the best Wedding vendors the Lowcountry offers.&nbsp\; Contact Susan Basile: <a href="mailto:843-379-9800/susan.basile@hilton.com">843-379-9800/susan.basile@hilton.com</a>
LOCATION:Hilton Garden Inn
UID:e.1212.4571
SEQUENCE:3
DTSTAMP:20260422T164445Z
URL:http://business.beaufortchamber.org/events/details/best-of-beaufort-bridal-show-09-22-2012-4571
END:VEVENT

END:VCALENDAR
