BEGIN:VCALENDAR
VERSION:2.0
PRODID:-//ChamberMaster//Event Calendar 2.0//EN
METHOD:PUBLISH
X-PUBLISHED-TTL:P3D
REFRESH-INTERVAL:P3D
CALSCALE:GREGORIAN
BEGIN:VEVENT
DTSTART;VALUE=DATE:20081205
DTEND;VALUE=DATE:20081206
TRANSP:TRANSPARENT
X-MICROSOFT-CDO-ALLDAYEVENT:TRUE
SUMMARY:BHS ' Voices Winter Concert
DESCRIPTION:Winter concert features Vivaldi's "Gloria".  There will also be music including traditional English carols and lighter holiday tunes.  Concert performed by the 60-voiced advanced choral ensemble of Beaufort High School.    Tickets $5 at the door or through BHS Vocal Boosters.
X-ALT-DESC;FMTTYPE=text/html:Winter concert features Vivaldi's "Gloria".  There will also be music including traditional English carols and lighter holiday tunes.  Concert performed by the 60-voiced advanced choral ensemble of Beaufort High School.    Tickets $5 at the door or through BHS Vocal Boosters.
LOCATION:
UID:e.1212.2813
SEQUENCE:3
DTSTAMP:20260425T141427Z
URL:http://business.beaufortchamber.org/events/details/bhs-voices-winter-concert-12-05-2008-2813
END:VEVENT

END:VCALENDAR
