BEGIN:VCALENDAR
VERSION:2.0
PRODID:-//ChamberMaster//Event Calendar 2.0//EN
METHOD:PUBLISH
X-PUBLISHED-TTL:P3D
REFRESH-INTERVAL:P3D
CALSCALE:GREGORIAN
BEGIN:VEVENT
DTSTART;VALUE=DATE:20130427
DTEND;VALUE=DATE:20130428
TRANSP:TRANSPARENT
X-MICROSOFT-CDO-ALLDAYEVENT:TRUE
SUMMARY:Bill Verity Cup Pro-Am Charily Golf Tournament -
DESCRIPTION:Benefiting the Boys & Girls Clubs Beaufort Area\n\n\n\nSanctuary Golf Club at Cat Island\n\n\n\n11:30 a.m. Registration & Lunch\n\n\n\n1:00 p.m.  Shot Gun Start\n\n\n\nBecome a Hole Sponsor $100.00
X-ALT-DESC;FMTTYPE=text/html:Benefiting the Boys &amp\; Girls Clubs Beaufort Area<br />\n<br />\nSanctuary Golf Club at Cat Island<br />\n<br />\n11:30 a.m. Registration &amp\; Lunch<br />\n<br />\n1:00 p.m.&nbsp\; Shot Gun Start<br />\n<br />\nBecome a Hole Sponsor $100.00
LOCATION:Sanctuary Golf Club at Cat Island
UID:e.1212.4779
SEQUENCE:3
DTSTAMP:20260422T065801Z
URL:http://business.beaufortchamber.org/events/details/bill-verity-cup-pro-am-charily-golf-tournament-04-27-2013-4779
END:VEVENT

END:VCALENDAR
