BEGIN:VCALENDAR
VERSION:2.0
PRODID:-//ChamberMaster//Event Calendar 2.0//EN
METHOD:PUBLISH
X-PUBLISHED-TTL:P3D
REFRESH-INTERVAL:P3D
CALSCALE:GREGORIAN
BEGIN:VEVENT
DTSTART:20120423T153000Z
DTEND:20120424T000000Z
X-MICROSOFT-CDO-ALLDAYEVENT:FALSE
SUMMARY:Bill Verity Cup Pro-Am Charity Golf Tournament
DESCRIPTION:Charity Golf Tournment Benefiting the Boys & Girls Clubs of the Beaufort Area
X-ALT-DESC;FMTTYPE=text/html:Charity Golf Tournment Benefiting the Boys &amp\; Girls Clubs of the Beaufort Area<br />\n
LOCATION:Sanctuary Golf Club on Cat Island
UID:e.1212.4513
SEQUENCE:3
DTSTAMP:20260423T011347Z
URL:http://business.beaufortchamber.org/events/details/bill-verity-cup-pro-am-charity-golf-tournament-04-23-2012-4513
END:VEVENT

END:VCALENDAR
