BEGIN:VCALENDAR
VERSION:2.0
PRODID:-//ChamberMaster//Event Calendar 2.0//EN
METHOD:PUBLISH
X-PUBLISHED-TTL:P3D
REFRESH-INTERVAL:P3D
CALSCALE:GREGORIAN
BEGIN:VEVENT
DTSTART;VALUE=DATE:20090228
DTEND;VALUE=DATE:20090301
TRANSP:TRANSPARENT
X-MICROSOFT-CDO-ALLDAYEVENT:TRUE
SUMMARY:Birthday Party for Dr. Seuss!
DESCRIPTION:Enjoy green eggs and ham\, fun and game with the Cat in the Hat!
X-ALT-DESC;FMTTYPE=text/html:Enjoy green eggs and ham\, fun and game with the Cat in the Hat!
LOCATION:
UID:e.1212.2990
SEQUENCE:3
DTSTAMP:20260425T124450Z
URL:http://business.beaufortchamber.org/events/details/birthday-party-for-dr-seuss-02-28-2009-2990
END:VEVENT

END:VCALENDAR
