BEGIN:VCALENDAR
VERSION:2.0
PRODID:-//ChamberMaster//Event Calendar 2.0//EN
METHOD:PUBLISH
X-PUBLISHED-TTL:P3D
REFRESH-INTERVAL:P3D
CALSCALE:GREGORIAN
BEGIN:VEVENT
DTSTART:20111202T230000Z
DTEND:20111203T020000Z
X-MICROSOFT-CDO-ALLDAYEVENT:FALSE
SUMMARY:Blizzard at Blue Heron Trail
DESCRIPTION:Blue Heron Nature Trail Chrsitams Light Display\n\n\n\nPlay in Snow - Snow Pass $5\n\n\n\nPictures with Santa $5\n\n\n\nJumpy House\n\n\n\nFire Pit\, Hot Dogs\, Chilli\, Hot Coco\, S'mores and more
X-ALT-DESC;FMTTYPE=text/html:Blue Heron Nature Trail Chrsitams Light Display<br />\n<br />\nPlay in Snow - Snow Pass $5<br />\n<br />\nPictures with Santa $5<br />\n<br />\nJumpy House<br />\n<br />\nFire Pit\, Hot Dogs\, Chilli\, Hot Coco\, S&#39\;mores and more
LOCATION:Blue Heron Nature Trail\, Ridgeland\, SC next to Jasper's Porch Restaurant
UID:e.1212.4334
SEQUENCE:3
DTSTAMP:20260423T072545Z
URL:http://business.beaufortchamber.org/events/details/blizzard-at-blue-heron-trail-12-02-2011-4334
END:VEVENT

END:VCALENDAR
