BEGIN:VCALENDAR
VERSION:2.0
PRODID:-//ChamberMaster//Event Calendar 2.0//EN
METHOD:PUBLISH
X-PUBLISHED-TTL:P3D
REFRESH-INTERVAL:P3D
CALSCALE:GREGORIAN
BEGIN:VEVENT
DTSTART:20140112T150000Z
DTEND:20140112T210000Z
X-MICROSOFT-CDO-ALLDAYEVENT:FALSE
SUMMARY:Blood Drive
DESCRIPTION:Beaufort Seventh Day Adventist Church Blood Drive and Health Fair
X-ALT-DESC;FMTTYPE=text/html:Beaufort Seventh Day Adventist Church Blood Drive and Health Fair
LOCATION:1501 Salem Road (Salem Village Shopping Center)\, Beaufort\, SC
UID:e.1212.5157
SEQUENCE:3
DTSTAMP:20260421T132051Z
URL:http://business.beaufortchamber.org/events/details/blood-drive-01-12-2014-5157
END:VEVENT

END:VCALENDAR
