BEGIN:VCALENDAR
VERSION:2.0
PRODID:-//ChamberMaster//Event Calendar 2.0//EN
METHOD:PUBLISH
X-PUBLISHED-TTL:P3D
REFRESH-INTERVAL:P3D
CALSCALE:GREGORIAN
BEGIN:VEVENT
DTSTART:20131216T130000Z
DTEND:20131216T190000Z
X-MICROSOFT-CDO-ALLDAYEVENT:FALSE
SUMMARY:Blood Drive
DESCRIPTION:The Blood Alliance Blood Drive
X-ALT-DESC;FMTTYPE=text/html:The Blood Alliance Blood Drive
LOCATION:Beaufort High School
UID:e.1212.5142
SEQUENCE:3
DTSTAMP:20260421T151425Z
URL:http://business.beaufortchamber.org/events/details/blood-drive-12-16-2013-5142
END:VEVENT

END:VCALENDAR
