BEGIN:VCALENDAR
VERSION:2.0
PRODID:-//ChamberMaster//Event Calendar 2.0//EN
METHOD:PUBLISH
X-PUBLISHED-TTL:P3D
REFRESH-INTERVAL:P3D
CALSCALE:GREGORIAN
BEGIN:VEVENT
DTSTART;VALUE=DATE:20091022
DTEND;VALUE=DATE:20091023
TRANSP:TRANSPARENT
X-MICROSOFT-CDO-ALLDAYEVENT:TRUE
SUMMARY:Bluffton Farmers Market
DESCRIPTION:This market is held every "Thursday" of the month.  Come stroll through the local vendors and enjoy the music.  You can get your fresh locally grown fruits and vegetables for the week.  Every week you will also find a different variety of fresh produce\, home baked and canned foods\, artwork\, flowers and other handcrafted\, locally produced goods such as organic foods\, herbs\, plants and crafts.  Open through November 19\, 2009.
X-ALT-DESC;FMTTYPE=text/html:This market is held every "Thursday" of the month.  Come stroll through the local vendors and enjoy the music.  You can get your fresh locally grown fruits and vegetables for the week.  Every week you will also find a different variety of fresh produce\, home baked and canned foods\, artwork\, flowers and other handcrafted\, locally produced goods such as organic foods\, herbs\, plants and crafts.  Open through November 19\, 2009.
LOCATION:
UID:e.1212.3510
SEQUENCE:3
DTSTAMP:20260424T221749Z
URL:http://business.beaufortchamber.org/events/details/bluffton-farmers-market-10-22-2009-3510
END:VEVENT

END:VCALENDAR
