BEGIN:VCALENDAR
VERSION:2.0
PRODID:-//ChamberMaster//Event Calendar 2.0//EN
METHOD:PUBLISH
X-PUBLISHED-TTL:P3D
REFRESH-INTERVAL:P3D
CALSCALE:GREGORIAN
BEGIN:VEVENT
DTSTART:20120110T223000Z
DTEND:20120111T000000Z
X-MICROSOFT-CDO-ALLDAYEVENT:FALSE
SUMMARY:Bluffton Quarterly Business Social
DESCRIPTION:Start out the New Year right and network at Bluffton's only Quarterly Business Social.\n\n\n\nMeet other business folks and share your business information.\n\n\n\nLocated at 217 Goethe Rd. in Downtown Bluffton at the Bluffton Business Club.\n\n\n\nDoor prizes\, food\, and beverages are complimentary.\n\n\n\nCall 843-757-9983 for more information.\n\n\n\nA small fee of $10 will be taken at the door.
X-ALT-DESC;FMTTYPE=text/html:Start out the New Year right and network at Bluffton&#39\;s only Quarterly Business Social.<br />\n<br />\nMeet other business folks and share your business information.<br />\n<br />\nLocated at 217 Goethe Rd. in Downtown Bluffton at the Bluffton Business Club.<br />\n<br />\nDoor prizes\, food\, and beverages are complimentary.<br />\n<br />\nCall 843-757-9983 for more information.<br />\n<br />\nA small fee of $10 will be taken at the door.
LOCATION:The Bluffton Business Club 217 Goethe Rd.
UID:e.1212.4494
SEQUENCE:3
DTSTAMP:20260423T041100Z
URL:http://business.beaufortchamber.org/events/details/bluffton-quarterly-business-social-01-10-2012-4494
END:VEVENT

END:VCALENDAR
