BEGIN:VCALENDAR
VERSION:2.0
PRODID:-//ChamberMaster//Event Calendar 2.0//EN
METHOD:PUBLISH
X-PUBLISHED-TTL:P3D
REFRESH-INTERVAL:P3D
CALSCALE:GREGORIAN
BEGIN:VEVENT
DTSTART:20140123T210000Z
DTEND:20140123T220000Z
X-MICROSOFT-CDO-ALLDAYEVENT:FALSE
SUMMARY:Board meeting
DESCRIPTION:January Board of Directors meeting
X-ALT-DESC;FMTTYPE=text/html:January Board of Directors meeting
LOCATION:Carnegie Conference Room 701 Craven Street
UID:e.1212.5056
SEQUENCE:3
DTSTAMP:20260421T132150Z
URL:http://business.beaufortchamber.org/events/details/board-meeting-01-23-2014-5056
END:VEVENT

END:VCALENDAR
