BEGIN:VCALENDAR
VERSION:2.0
PRODID:-//ChamberMaster//Event Calendar 2.0//EN
METHOD:PUBLISH
X-PUBLISHED-TTL:P3D
REFRESH-INTERVAL:P3D
CALSCALE:GREGORIAN
BEGIN:VEVENT
DTSTART:20130718T200000Z
DTEND:20130718T210000Z
X-MICROSOFT-CDO-ALLDAYEVENT:FALSE
SUMMARY:Board of Directors Meeting
DESCRIPTION:Carnegie Building meeting room\n\n701 Craven Street\, Beaufort SC
X-ALT-DESC;FMTTYPE=text/html:Carnegie Building meeting room<br />\n701 Craven Street\, Beaufort SC
LOCATION:
UID:e.1212.5026
SEQUENCE:3
DTSTAMP:20260421T232639Z
URL:http://business.beaufortchamber.org/events/details/board-of-directors-meeting-07-18-2013-5026
END:VEVENT

END:VCALENDAR
