BEGIN:VCALENDAR
VERSION:2.0
PRODID:-//ChamberMaster//Event Calendar 2.0//EN
METHOD:PUBLISH
X-PUBLISHED-TTL:P3D
REFRESH-INTERVAL:P3D
CALSCALE:GREGORIAN
BEGIN:VEVENT
DTSTART:20131029T200000Z
DTEND:20131029T210000Z
X-MICROSOFT-CDO-ALLDAYEVENT:FALSE
SUMMARY:Boo to You! Halloween Fun for 1st Graders and Older - Hilton Head Library
DESCRIPTION:Event Name:  Boo to You!  Halloween Fun for 1st Graders and Older\n\nShort Description of Event:  If you're feeling brave\, join us for spooky stories and silly Halloween fun!  We'll enjoy stories\, activities\, and a craft that just might leave you feeling a tiny bit frightened!  Wear your costume\, if you like.  Participants must be in 1st grade or higher to attend.\n\nTime and Date of Event:  Tuesday\, October 29 at 4:00\n\nLocation of Event:  Hilton Head Library\, 11 Beach City Road\, Hilton Head SC 29926\n\nPrice of Event: Free\n\nContact info: 843-255-6529\, jbascom@bcgov.net\n\nWebsite:    www.beaufortcountylibrary.org
X-ALT-DESC;FMTTYPE=text/html:<span style="font-size: medium\;"><span style="font-family: calibri\;"><strong>Event Name:</strong>&nbsp\; Boo to You!&nbsp\; Halloween Fun for 1<sup><span style="font-size: small\;">st</span></sup></span> Graders and Older</span><br />\n<span style="font-size: medium\;"><span style="font-family: calibri\;"><strong>Short Description of Event:</strong>&nbsp\; If you&rsquo\;re feeling brave\, join us for spooky stories and silly Halloween fun!&nbsp\; We&rsquo\;ll enjoy stories\, activities\, and a craft that just might leave you feeling a tiny bit frightened!&nbsp\; Wear your costume\, if you like.&nbsp\; Participants must be in 1<sup><span style="font-size: small\;">st</span></sup></span> grade or higher to attend.</span><br />\n<span style="font-size: medium\;"><span style="font-family: calibri\;"><strong>Time and Date of Event:</strong>&nbsp\; Tuesday\, October 29 at 4:00</span></span><br />\n<span style="font-size: medium\;"><span style="font-family: calibri\;"><strong>Location of Event:</strong>&nbsp\; Hilton Head Library\, 11 Beach City Road\, Hilton Head SC 29926</span></span><br />\n<span style="font-size: medium\;"><span style="font-family: calibri\;"><strong>Price of Event: </strong>Free</span></span><br />\n<span style="font-size: medium\;"><span style="font-family: calibri\;"><strong>Contact info:</strong> 843-255-6529\, </span></span><a href="mailto:jbascom@bcgov.net"><span style="font-size: medium\;"><span style="font-family: calibri\;"><span style="color: rgb(0\, 0\, 255)\;">jbascom@bcgov.net</span></span></span></a><br />\n<span style="font-size: medium\;"><span style="font-family: calibri\;"><strong>Website:&nbsp\; </strong>&nbsp\;&nbsp\;</span></span><a href="http://www.beaufortcountylibrary.org/"><span style="font-size: medium\;"><span style="font-family: calibri\;"><span style="color: rgb(0\, 0\, 255)\;">www.beaufortcountylibrary.org</span></span></span></a><br />\n
LOCATION:
UID:e.1212.5069
SEQUENCE:3
DTSTAMP:20260421T182442Z
URL:http://business.beaufortchamber.org/events/details/boo-to-you-halloween-fun-for-1st-graders-and-older-hilton-head-library-10-29-2013-5069
END:VEVENT

END:VCALENDAR
