BEGIN:VCALENDAR
VERSION:2.0
PRODID:-//ChamberMaster//Event Calendar 2.0//EN
METHOD:PUBLISH
X-PUBLISHED-TTL:P3D
REFRESH-INTERVAL:P3D
CALSCALE:GREGORIAN
BEGIN:VEVENT
DTSTART;VALUE=DATE:20090808
DTEND;VALUE=DATE:20090809
TRANSP:TRANSPARENT
X-MICROSOFT-CDO-ALLDAYEVENT:TRUE
SUMMARY:Book Signing: Dead Weight
DESCRIPTION:Join Author\, Bat Humphries.
X-ALT-DESC;FMTTYPE=text/html:Join Author\, Bat Humphries.
LOCATION:
UID:e.1212.3441
SEQUENCE:3
DTSTAMP:20260425T010620Z
URL:http://business.beaufortchamber.org/events/details/book-signing-dead-weight-08-08-2009-3441
END:VEVENT

END:VCALENDAR
