BEGIN:VCALENDAR
VERSION:2.0
PRODID:-//ChamberMaster//Event Calendar 2.0//EN
METHOD:PUBLISH
X-PUBLISHED-TTL:P3D
REFRESH-INTERVAL:P3D
CALSCALE:GREGORIAN
BEGIN:VEVENT
DTSTART;VALUE=DATE:20090712
DTEND;VALUE=DATE:20090713
TRANSP:TRANSPARENT
X-MICROSOFT-CDO-ALLDAYEVENT:TRUE
SUMMARY:Book Signing: Dorothea Benton Frank 'Return to Sullivan's Island
DESCRIPTION:
X-ALT-DESC;FMTTYPE=text/html:
LOCATION:
UID:e.1212.3272
SEQUENCE:3
DTSTAMP:20260425T025001Z
URL:http://business.beaufortchamber.org/events/details/book-signing-dorothea-benton-frank-return-to-sullivan-s-island-07-12-2009-3272
END:VEVENT

END:VCALENDAR
