BEGIN:VCALENDAR
VERSION:2.0
PRODID:-//ChamberMaster//Event Calendar 2.0//EN
METHOD:PUBLISH
X-PUBLISHED-TTL:P3D
REFRESH-INTERVAL:P3D
CALSCALE:GREGORIAN
BEGIN:VEVENT
DTSTART;VALUE=DATE:20090711
DTEND;VALUE=DATE:20090712
TRANSP:TRANSPARENT
X-MICROSOFT-CDO-ALLDAYEVENT:TRUE
SUMMARY:Book Signing: E.B. Lewis 'Circle Unbroken' and 'Negro Speaks of Rivers'
DESCRIPTION:
X-ALT-DESC;FMTTYPE=text/html:
LOCATION:
UID:e.1212.3271
SEQUENCE:3
DTSTAMP:20260425T025003Z
URL:http://business.beaufortchamber.org/events/details/book-signing-e-b-lewis-circle-unbroken-and-negro-speaks-of-rivers-07-11-2009-3271
END:VEVENT

END:VCALENDAR
