BEGIN:VCALENDAR
VERSION:2.0
PRODID:-//ChamberMaster//Event Calendar 2.0//EN
METHOD:PUBLISH
X-PUBLISHED-TTL:P3D
REFRESH-INTERVAL:P3D
CALSCALE:GREGORIAN
BEGIN:VEVENT
DTSTART;VALUE=DATE:20090717
DTEND;VALUE=DATE:20090718
TRANSP:TRANSPARENT
X-MICROSOFT-CDO-ALLDAYEVENT:TRUE
SUMMARY:Book Signing: Jim Jordan 'Savannah Grey'
DESCRIPTION:
X-ALT-DESC;FMTTYPE=text/html:
LOCATION:
UID:e.1212.3274
SEQUENCE:3
DTSTAMP:20260425T024959Z
URL:http://business.beaufortchamber.org/events/details/book-signing-jim-jordan-savannah-grey-07-17-2009-3274
END:VEVENT

END:VCALENDAR
