BEGIN:VCALENDAR
VERSION:2.0
PRODID:-//ChamberMaster//Event Calendar 2.0//EN
METHOD:PUBLISH
X-PUBLISHED-TTL:P3D
REFRESH-INTERVAL:P3D
CALSCALE:GREGORIAN
BEGIN:VEVENT
DTSTART;VALUE=DATE:20090718
DTEND;VALUE=DATE:20090719
TRANSP:TRANSPARENT
X-MICROSOFT-CDO-ALLDAYEVENT:TRUE
SUMMARY:Book Signing: Mary Alice Monroe 'Last Night of Carolina'
DESCRIPTION:
X-ALT-DESC;FMTTYPE=text/html:
LOCATION:
UID:e.1212.3275
SEQUENCE:3
DTSTAMP:20260425T025252Z
URL:http://business.beaufortchamber.org/events/details/book-signing-mary-alice-monroe-last-night-of-carolina-07-18-2009-3275
END:VEVENT

END:VCALENDAR
