BEGIN:VCALENDAR
VERSION:2.0
PRODID:-//ChamberMaster//Event Calendar 2.0//EN
METHOD:PUBLISH
X-PUBLISHED-TTL:P3D
REFRESH-INTERVAL:P3D
CALSCALE:GREGORIAN
BEGIN:VEVENT
DTSTART:20140217T170000Z
DTEND:20140217T183000Z
X-MICROSOFT-CDO-ALLDAYEVENT:FALSE
SUMMARY:Books Sandwiched In
DESCRIPTION:The Books Sandwiched In series\, sponsored by the Friends of the Beaufort County Library (FOL)\, will begin in January 2014 and is one of the "Friends" most popular projects. Local authors\, well-known community leaders\, celebrities\, educators and world-travelers have appeared as presenters on the Books Sandwiched In stage at this free event.\n\n	\n\n	With a book selection from a wide-range of books and subject matter\, including those by local authors\, bestsellers\, and fascinating prizewinners\, the series has attracted large audiences for many years.  There is plenty of time after each presentation for audience Q and A.\n\n	\n\n	There will be a light lunch for sale on site\, or bring your own bag lunch.  Coffee and cookies are complimentary and donations are very much appreciated.  It is also a great time to become a "Friend" of the Beaufort County Library or renew your yearly membership.
X-ALT-DESC;FMTTYPE=text/html:<div style="color: gray\;">\n	<span style="color: rgb(0\, 0\, 0)\;">The&nbsp\;Books&nbsp\;Sandwiched&nbsp\;In series\, sponsored by&nbsp\;the&nbsp\;Friends of&nbsp\;the Beaufort&nbsp\;County&nbsp\;Library (FOL)\, will begin&nbsp\;in&nbsp\;January 2014 and is one of the &ldquo\;Friends&rdquo\; most popular projects. Local authors\,&nbsp\;well-known community leaders\, celebrities\, educators and world-travelers have&nbsp\;appeared as presenters&nbsp\;on the Books&nbsp\;Sandwiched In stage at this free event.<br />\n	<br />\n	With a book&nbsp\;selection from a wide-range of&nbsp\;books and&nbsp\;subject matter\, including those by local authors\, bestsellers\, and fascinating prizewinners\,&nbsp\;the&nbsp\;series has attracted large audiences&nbsp\;for many years.&nbsp\; There is plenty of time after each presentation for audience Q and A.<br />\n	<br />\n	There will be a light lunch&nbsp\;for&nbsp\;sale on site\, or bring your own bag lunch.&nbsp\; Coffee and cookies are complimentary and donations are very much appreciated.&nbsp\;&nbsp\;It is also a great time to become a &ldquo\;Friend&rdquo\; of the Beaufort County Library or renew your yearly membership.</span><br />\n	<br />\n	&nbsp\;</div>\n
LOCATION:Stephen Murray presents Freedom's Forge by Arthur Herman USCB Center for Performing Arts\, 801 Carteret Street\, Beaufort\, SC 29902
UID:e.1212.5169
SEQUENCE:3
DTSTAMP:20260421T114703Z
URL:http://business.beaufortchamber.org/events/details/books-sandwiched-in-02-17-2014-5169
END:VEVENT

END:VCALENDAR
