BEGIN:VCALENDAR
VERSION:2.0
PRODID:-//ChamberMaster//Event Calendar 2.0//EN
METHOD:PUBLISH
X-PUBLISHED-TTL:P3D
REFRESH-INTERVAL:P3D
CALSCALE:GREGORIAN
BEGIN:VEVENT
DTSTART;VALUE=DATE:20090314
DTEND;VALUE=DATE:20090315
TRANSP:TRANSPARENT
X-MICROSOFT-CDO-ALLDAYEVENT:TRUE
SUMMARY:Boots & BBQ
DESCRIPTION:Proceeds benefit the Boys & Girls Club Beaufort Area.  Sponsored by Jr. Service League of Beaufort.
X-ALT-DESC;FMTTYPE=text/html:Proceeds benefit the Boys & Girls Club Beaufort Area.  Sponsored by Jr. Service League of Beaufort.
LOCATION:
UID:e.1212.3031
SEQUENCE:3
DTSTAMP:20260425T111329Z
URL:http://business.beaufortchamber.org/events/details/boots-bbq-03-14-2009-3031
END:VEVENT

END:VCALENDAR
