BEGIN:VCALENDAR
VERSION:2.0
PRODID:-//ChamberMaster//Event Calendar 2.0//EN
METHOD:PUBLISH
X-PUBLISHED-TTL:P3D
REFRESH-INTERVAL:P3D
CALSCALE:GREGORIAN
BEGIN:VEVENT
DTSTART:20111105T223000Z
DTEND:20111106T030000Z
X-MICROSOFT-CDO-ALLDAYEVENT:FALSE
SUMMARY:Boots & Bling Fundraiser & Auction
DESCRIPTION:Come out for an evening of music presented by a DJ\, good food (5 food stations )\, beverages include beer or frozen drinks\, silent auction and a fun time !\n\nThis is the YMCA's 2nd annual Boots & Bling!
X-ALT-DESC;FMTTYPE=text/html:Come out for an evening of music presented by a&nbsp\;DJ\, good food (5 food stations )\,&nbsp\;beverages include beer or frozen drinks\,&nbsp\;silent auction and a fun time !<br />\nThis is the YMCA&#39\;s 2nd annual Boots &amp\; Bling!
LOCATION:Butler Marine 70 Sea Island Parkway Beaufort\, SC 29907
UID:e.1212.4317
SEQUENCE:3
DTSTAMP:20260423T073858Z
URL:http://business.beaufortchamber.org/events/details/boots-bling-fundraiser-auction-11-05-2011-4317
END:VEVENT

END:VCALENDAR
