BEGIN:VCALENDAR
VERSION:2.0
PRODID:-//ChamberMaster//Event Calendar 2.0//EN
METHOD:PUBLISH
X-PUBLISHED-TTL:P3D
REFRESH-INTERVAL:P3D
CALSCALE:GREGORIAN
BEGIN:VEVENT
DTSTART;VALUE=DATE:20091114
DTEND;VALUE=DATE:20091115
TRANSP:TRANSPARENT
X-MICROSOFT-CDO-ALLDAYEVENT:TRUE
SUMMARY:Boys & Girls Club of Bluffton - I.M.P.A.C.T. Golf Tournament
DESCRIPTION:1:00pm - Shotgun Start\, Scramble Format\nCost: $35 per golfer - includes one\, nine-hole tournamennt round\, one come - back round and a half-pound hamburger after the tournament\nCost: $3 per shot - We will have a chipping challenge and a putting challange with prizes given to winner
X-ALT-DESC;FMTTYPE=text/html:1:00pm - Shotgun Start\, Scramble Format\nCost: $35 per golfer - includes one\, nine-hole tournamennt round\, one come - back round and a half-pound hamburger after the tournament\nCost: $3 per shot - We will have a chipping challenge and a putting challange with prizes given to winner
LOCATION:
UID:e.1212.3689
SEQUENCE:3
DTSTAMP:20260424T210746Z
URL:http://business.beaufortchamber.org/events/details/boys-girls-club-of-bluffton-i-m-p-a-c-t-golf-tournament-11-14-2009-3689
END:VEVENT

END:VCALENDAR
