BEGIN:VCALENDAR
VERSION:2.0
PRODID:-//ChamberMaster//Event Calendar 2.0//EN
METHOD:PUBLISH
X-PUBLISHED-TTL:P3D
REFRESH-INTERVAL:P3D
CALSCALE:GREGORIAN
BEGIN:VEVENT
DTSTART:20130606T160000Z
DTEND:20130606T173000Z
X-MICROSOFT-CDO-ALLDAYEVENT:FALSE
SUMMARY:Boys & Girls Clubs of the Lowcountry Annual Meeting
DESCRIPTION:Boys & Girls Clubs of the Lowcountry will hold its annual meeting on June 6\, 2013\, at the Moss Creek Clubhouse. The event will honor local business partners which support more than one Club in the Boys & Girls of the Lowcountry family: Beaufort\, Bluffton\, Hilton Head\, Jasper and Sheldon.\n\nBusinesses being honored include: CoastalStates Bank\, Coca Cola\, Disney Hilton Head Resort\, Gulfstream Aerospace Corporation\, Hargary\, Hilton Head BMW\, New River Auto Mall\, Palmetto Electric\, SCB&T\, Susan Ketchum - Merrill Lynch\, and Wells Fargo\n\n\n\nThursday\, June 6\, 2013  Noon to 1:30 pm\n\n$15/person   $120/table of 8\n\n\n\nRSVP by Monday\, June 3\, 2013
X-ALT-DESC;FMTTYPE=text/html:<span style="font-size: 12pt\;"><span style="font-family: arial\,sans-serif\;">Boys &amp\; Girls Clubs of the Lowcountry will hold its annual meeting on June 6\, 2013\, at the Moss Creek Clubhouse. The event will honor local business partners which support more than one Club in the Boys &amp\; Girls of the Lowcountry family: Beaufort\, Bluffton\, Hilton Head\, Jasper and Sheldon.</span></span><br />\n<span style="font-size: medium\;"><span style="font-size: 12pt\;"><span style="font-family: arial\,sans-serif\;">Businesses being honored include: CoastalStates Bank</span></span></span><span style="font-size: 12pt\;"><span style="font-family: arial\,sans-serif\;">\, Coca Cola\, Disney Hilton Head Resort\, Gulfstream Aerospace Corporation\, Hargary\, Hilton Head BMW\, New River Auto Mall\, Palmetto Electric\, SCB&amp\;T\, Susan Ketchum - Merrill Lynch\, and Wells Fargo<br />\n<br />\nThursday\, June 6\, 2013&nbsp\; Noon to 1:30 pm<br />\n$15/person&nbsp\;&nbsp\; $120/table of 8<br />\n<br />\nRSVP by Monday\, June 3\, 2013</span></span>
LOCATION:Moss Creek Clubhouse
UID:e.1212.5009
SEQUENCE:3
DTSTAMP:20260422T012625Z
URL:http://business.beaufortchamber.org/events/details/boys-girls-clubs-of-the-lowcountry-annual-meeting-06-06-2013-5009
END:VEVENT

END:VCALENDAR
