BEGIN:VCALENDAR
VERSION:2.0
PRODID:-//ChamberMaster//Event Calendar 2.0//EN
METHOD:PUBLISH
X-PUBLISHED-TTL:P3D
REFRESH-INTERVAL:P3D
CALSCALE:GREGORIAN
BEGIN:VEVENT
DTSTART;VALUE=DATE:20100624
DTEND;VALUE=DATE:20100625
TRANSP:TRANSPARENT
X-MICROSOFT-CDO-ALLDAYEVENT:TRUE
SUMMARY:BRCOC - Annual Meeting & Civitas Awards
DESCRIPTION:Members $50  Non Members $75
X-ALT-DESC;FMTTYPE=text/html:Members $50  Non Members $75
LOCATION:
UID:e.1212.3817
SEQUENCE:3
DTSTAMP:20260424T103612Z
URL:http://business.beaufortchamber.org/events/details/brcoc-annual-meeting-civitas-awards-06-24-2010-3817
END:VEVENT

END:VCALENDAR
