BEGIN:VCALENDAR
VERSION:2.0
PRODID:-//ChamberMaster//Event Calendar 2.0//EN
METHOD:PUBLISH
X-PUBLISHED-TTL:P3D
REFRESH-INTERVAL:P3D
CALSCALE:GREGORIAN
BEGIN:VEVENT
DTSTART;VALUE=DATE:20100408
DTEND;VALUE=DATE:20100409
TRANSP:TRANSPARENT
X-MICROSOFT-CDO-ALLDAYEVENT:TRUE
SUMMARY:BRCOC - BAH Dataw Island Marina
DESCRIPTION:Sponsored by a different member business each month\, Chamber members look forward to this popular after-hours networking event.  This is a perfect opportunity to make new business contacts and foster existing ones.\nFeatures:  Free food\, beverage\, and the chance to win exciting door prizes too !\nBe sure to bring your business cards\nPlease RSVP by Wednesday\, April 7th\nCost: $10 Members  $20 For Future Members
X-ALT-DESC;FMTTYPE=text/html:Sponsored by a different member business each month\, Chamber members look forward to this popular after-hours networking event.  This is a perfect opportunity to make new business contacts and foster existing ones.\nFeatures:  Free food\, beverage\, and the chance to win exciting door prizes too !\nBe sure to bring your business cards\nPlease RSVP by Wednesday\, April 7th\nCost: $10 Members  $20 For Future Members
LOCATION:
UID:e.1212.3808
SEQUENCE:3
DTSTAMP:20260424T140249Z
URL:http://business.beaufortchamber.org/events/details/brcoc-bah-dataw-island-marina-04-08-2010-3808
END:VEVENT

END:VCALENDAR
