BEGIN:VCALENDAR
VERSION:2.0
PRODID:-//ChamberMaster//Event Calendar 2.0//EN
METHOD:PUBLISH
X-PUBLISHED-TTL:P3D
REFRESH-INTERVAL:P3D
CALSCALE:GREGORIAN
BEGIN:VEVENT
DTSTART;VALUE=DATE:20100513
DTEND;VALUE=DATE:20100514
TRANSP:TRANSPARENT
X-MICROSOFT-CDO-ALLDAYEVENT:TRUE
SUMMARY:BRCOC - BAH TCL Beaufort - North Campus
DESCRIPTION:Cost:  $10 Members ..... $20 Future Members
X-ALT-DESC;FMTTYPE=text/html:Cost:  $10 Members ..... $20 Future Members
LOCATION:
UID:e.1212.3815
SEQUENCE:3
DTSTAMP:20260424T140957Z
URL:http://business.beaufortchamber.org/events/details/brcoc-bah-tcl-beaufort-north-campus-05-13-2010-3815
END:VEVENT

END:VCALENDAR
