BEGIN:VCALENDAR
VERSION:2.0
PRODID:-//ChamberMaster//Event Calendar 2.0//EN
METHOD:PUBLISH
X-PUBLISHED-TTL:P3D
REFRESH-INTERVAL:P3D
CALSCALE:GREGORIAN
BEGIN:VEVENT
DTSTART:20140405T160000Z
DTEND:20140406T010000Z
X-MICROSOFT-CDO-ALLDAYEVENT:FALSE
SUMMARY:Bridges Block Party
DESCRIPTION:With every new year comes a new adventure! Come join us in adventure from sea to table for the first annual Bridges Block Party featuring Shrimp and Grits Cook-off Saturday\, April 5th in the Habersham Marketplace. Our goal is to raise awareness of our school and gain supporters to benefit our students and their adventures in education.\n\n\n\nItems on the menu for Bridges Block Party: \n\n-Shrimp and Grits Cook-off featuring local professional chefs competing to win for the BEST recipe in Beaufort and to have their winning recipe featured in Low-country Weekly Magazine. \n\n\n\n-In the Kids-zone\, children will explore a wide array of fun and education activities\, such as\, a Rock-climbing-Wall\, Euro Bungee\, Touch-Tank and a Corn Shucking contest. \n\n\n\n-Bridges Preparatory School students will have an exclusive art show with an opportunity to be selected as best in show with a People's Choice Award. \n\n\n\n-Local chefs will entertain on the main stage by offering cooking demonstrations throughout the day.\n\n\n\n -Corn-Hole and other hands-on activities for all ages will be set up to enjoy while enjoying a refreshing beverage at the Beer Garden. \n\n\n\nShrimp not your thing? Don't worry\, we will have plenty of diverse food selections to choose from that will make even the land-loving foodies happy. \n\n\n\nLive music by Coastal Breeze Band will take the stage after the award ceremony. Our Bridges Block Party featuring Shrimp and Grits Cook-off will be our KEY fundraising event and provide a fun outing for the whole family to enjoy. We hope you will bring your family and join us for a day full of fun\, food and adventure in the Habersham Marketplace.
X-ALT-DESC;FMTTYPE=text/html:With every new year comes a new adventure! Come join us in adventure from sea to table for the first annual Bridges Block Party featuring Shrimp and Grits Cook-off Saturday\, April 5th in the Habersham Marketplace. Our goal is to raise awareness of our school and gain supporters to benefit our students and their adventures in education.<br />\n<br />\nItems on the menu for Bridges Block Party:&nbsp\;<br />\n-Shrimp and Grits Cook-off featuring local professional chefs competing to win for the BEST recipe in Beaufort and to have their winning recipe featured in Low-country Weekly Magazine.&nbsp\;<br />\n<br />\n-In the Kids-zone\, children will explore a wide array of fun and education activities\, such as\, a Rock-climbing-Wall\, Euro Bungee\, Touch-Tank and a Corn Shucking contest.&nbsp\;<br />\n<br />\n-Bridges Preparatory School students will have an exclusive art show with an opportunity to be selected as best in show with a People&#39\;s Choice Award.&nbsp\;<br />\n<br />\n-Local chefs will entertain on the main stage by offering cooking demonstrations throughout the day.<br />\n<br />\n&nbsp\;-Corn-Hole and other hands-on activities for all ages will be set up to enjoy while enjoying a refreshing beverage at the Beer Garden.&nbsp\;<br />\n<br />\nShrimp not your thing? Don&#39\;t worry\, we will have plenty of diverse food selections to choose from that will make even the land-loving foodies happy.&nbsp\;<br />\n<br />\nLive music by Coastal Breeze Band will take the stage after the award ceremony. Our Bridges Block Party featuring Shrimp and Grits Cook-off will be our KEY fundraising event and provide a fun outing for the whole family to enjoy. We hope you will bring your family and join us for a day full of fun\, food and adventure in the Habersham Marketplace.
LOCATION:Habersham Marketplace
UID:e.1212.5258
SEQUENCE:3
DTSTAMP:20260421T092940Z
URL:http://business.beaufortchamber.org/events/details/bridges-block-party-04-05-2014-5258
END:VEVENT

END:VCALENDAR
