BEGIN:VCALENDAR
VERSION:2.0
PRODID:-//ChamberMaster//Event Calendar 2.0//EN
METHOD:PUBLISH
X-PUBLISHED-TTL:P3D
REFRESH-INTERVAL:P3D
CALSCALE:GREGORIAN
BEGIN:VEVENT
DTSTART:20121001T223000Z
DTEND:20121002T000000Z
X-MICROSOFT-CDO-ALLDAYEVENT:FALSE
SUMMARY:Bridges Preparatory School - Public Meeting
DESCRIPTION:BRIDGES PREPARATORY SCHOOL\n\nMonday\, October 1\, 2012\n\n6:30 P.M.\n\n \n\nYMCA\n\n1801 Richmond Avenue\n\nPort Royal\, South Carolina
X-ALT-DESC;FMTTYPE=text/html:<span style="font-size: 10.5pt"><span style="color: #00519f"><span style="font-family: arial\, sans-serif"><strong>BRIDGES PREPARATORY SCHOOL</strong></span></span></span><br />\n<span style="font-size: 10.5pt"><span style="color: #00519f"><span style="font-family: arial\, sans-serif">Monday\, October 1\, 2012<br />\n6:30 P.M.<br />\n&nbsp\;<br />\n<strong><span style="font-family: arial\, sans-serif">YMCA</span></strong></span><br />\n1801 Richmond Avenue<br />\nPort Royal\, South Carolina</span></span>
LOCATION:YMCA 1801 Richmond Avenue
UID:e.1212.4635
SEQUENCE:3
DTSTAMP:20260422T152523Z
URL:http://business.beaufortchamber.org/events/details/bridges-preparatory-school-public-meeting-10-01-2012-4635
END:VEVENT

END:VCALENDAR
