BEGIN:VCALENDAR
VERSION:2.0
PRODID:-//ChamberMaster//Event Calendar 2.0//EN
METHOD:PUBLISH
X-PUBLISHED-TTL:P3D
REFRESH-INTERVAL:P3D
CALSCALE:GREGORIAN
BEGIN:VEVENT
DTSTART:20130101T000000Z
DTEND:20130101T040000Z
X-MICROSOFT-CDO-ALLDAYEVENT:FALSE
SUMMARY:Bubbles at the Bistro - Beaufort Inn New Year's Eve Celebration
DESCRIPTION:Please join Southern Graces Bistro at the Beaufort Inn for a delicious New Year's Eve Celebration!
X-ALT-DESC;FMTTYPE=text/html:Please join Southern Graces Bistro at the Beaufort Inn for a delicious New Year&#39\;s Eve Celebration!
LOCATION:Beaufort Inn\, 809 Port Republic Street\, Beaufort\, SC 29902
UID:e.1212.4695
SEQUENCE:3
DTSTAMP:20260422T120011Z
URL:http://business.beaufortchamber.org/events/details/bubbles-at-the-bistro-beaufort-inn-new-year-s-eve-celebration-12-31-2012-4695
END:VEVENT

END:VCALENDAR
