BEGIN:VCALENDAR
VERSION:2.0
PRODID:-//ChamberMaster//Event Calendar 2.0//EN
METHOD:PUBLISH
X-PUBLISHED-TTL:P3D
REFRESH-INTERVAL:P3D
CALSCALE:GREGORIAN
BEGIN:VEVENT
DTSTART:20120627T120000Z
DTEND:20120627T133000Z
X-MICROSOFT-CDO-ALLDAYEVENT:FALSE
SUMMARY:Business 4 Breakfast
DESCRIPTION:Business 4 Breakfast\n\n \n\nOn Wednesday\, June 27\, the Beaufort Regional Chamber will host our quarterly Business 4 Breakfast event from 8:00 a.m. - 9:30 a.m. at the Beaufort Hilton Garden Inn.  This quarter's speakers will include Colonel Lex Brown from MCRD Parris Island\, Colonel Brian Murtha   Commanding Officer at MCAS Beaufort and Captain Joan Queen   Commanding Officer at Naval Hospital Beaufort.  Each representative will be discussing what is going on at each of our local installations.  Contact Renee Faucher at 843.525.8537 or email renee@beaufortsc.org for more information or to RSVP.  Cost to attend is $10 for members and $20 for non-members\, includes breakfast.  To register\, click on the above tab.
X-ALT-DESC;FMTTYPE=text/html:<em><strong><u><span style="color: #245b7c"><span style="font-family: calibri\, sans-serif"><span style="font-size: 16pt">Business 4 Breakfast</span></span></span></u></strong></em><br />\n&nbsp\;<br />\n<span style="font-size: 10pt">On Wednesday\, June 27\, the Beaufort Regional Chamber will host our quarterly Business 4 Breakfast event from 8:00 a.m. - 9:30 a.m. at the Beaufort Hilton Garden Inn.&nbsp\; This quarter&#39\;s speakers will include </span><span style="font-family: calibri\, sans-serif"><span style="font-size: 11pt">Colonel Lex Brown</span></span><span style="font-size: 10pt"> from MCRD Parris Island\, Colonel Brian Murtha &ndash\; Commanding Officer at MCAS Beaufort and Captain Joan Queen &ndash\; Commanding Officer at Naval Hospital Beaufort.&nbsp\; Each representative will be discussing what is going on at each of our local installations.&nbsp\; Contact Renee Faucher at 843.525.8537 or email <a href="mailto:renee@beaufortsc.org" target="_blank">renee@beaufortsc.org</a></span> for more information or to RSVP.&nbsp\; Cost to attend is $10 for members and $20 for non-members\, includes breakfast.&nbsp\; To register\, click on the above tab.<br />\n<br />\n<span style="font-size: 8pt"><span style="font-family: verdana\, sans-serif"><span style="font-family: verdana"><span style="font-size: 8pt"><span style="font-family: verdana\, sans-serif">&nbsp\;</span></span></span></span><br />\n<br />\n&nbsp\;</span>
LOCATION:1500 Queen Street\, Beaufort\, South Carolina\, 29902
UID:e.1212.4533
SEQUENCE:3
DTSTAMP:20260422T204618Z
URL:http://business.beaufortchamber.org/events/details/business-4-breakfast-06-27-2012-4533
END:VEVENT

END:VCALENDAR
