BEGIN:VCALENDAR
VERSION:2.0
PRODID:-//ChamberMaster//Event Calendar 2.0//EN
METHOD:PUBLISH
X-PUBLISHED-TTL:P3D
REFRESH-INTERVAL:P3D
CALSCALE:GREGORIAN
BEGIN:VEVENT
DTSTART:20130912T120000Z
DTEND:20130912T133000Z
X-MICROSOFT-CDO-ALLDAYEVENT:FALSE
SUMMARY:Business 4 Breakfast
DESCRIPTION:Business for Breakfast\n\nSept 12\n\n8-9:30 am \n\nHilton Garden Inn (1500 Queen St\, Beaufort)\n\nTopic:  Beaufort County Schools\n\nSpeaker:  Jeffrey Moss\, Beaufort Co. School Superintendent\n\n$10 Members / $20 Non Members
X-ALT-DESC;FMTTYPE=text/html:<strong><span style="font-size: 11.5pt\;"><span style="font-family: arial\,sans-serif\;"><span style="color: rgb(50\, 50\, 50)\;">Business for Breakfast</span></span></span></strong><br />\n<span style="font-size: 11.5pt\;"><span style="font-family: arial\,sans-serif\;"><span style="color: rgb(50\, 50\, 50)\;">Sept 12</span></span></span><br />\n<span style="font-size: 11.5pt\;"><span style="font-family: arial\,sans-serif\;"><span style="color: rgb(50\, 50\, 50)\;">8-9:30 am&nbsp\;</span></span></span><br />\n<span style="font-size: 11.5pt\;"><span style="font-family: arial\,sans-serif\;"><span style="color: rgb(50\, 50\, 50)\;">Hilton Garden Inn (1500 Queen St\, Beaufort)</span></span></span><br />\n<span style="font-size: 11.5pt\;"><span style="font-family: arial\,sans-serif\;"><span style="color: rgb(50\, 50\, 50)\;">Topic: &nbsp\;Beaufort County Schools</span></span></span><br />\n<span style="font-size: 11.5pt\;"><span style="font-family: arial\,sans-serif\;"><span style="color: rgb(50\, 50\, 50)\;">Speaker: &nbsp\;Jeffrey Moss\, Beaufort Co. School Superintendent</span></span></span><br />\n<span style="font-size: 11.5pt\;"><span style="font-family: arial\,sans-serif\;"><span style="color: rgb(50\, 50\, 50)\;">$10 Members / $20 Non Members</span></span></span>
LOCATION:
UID:e.1212.5106
SEQUENCE:3
DTSTAMP:20260421T200504Z
URL:http://business.beaufortchamber.org/events/details/business-4-breakfast-09-12-2013-5106
END:VEVENT

END:VCALENDAR
