BEGIN:VCALENDAR
VERSION:2.0
PRODID:-//ChamberMaster//Event Calendar 2.0//EN
METHOD:PUBLISH
X-PUBLISHED-TTL:P3D
REFRESH-INTERVAL:P3D
CALSCALE:GREGORIAN
BEGIN:VEVENT
DTSTART:20121016T120000Z
DTEND:20121016T133000Z
X-MICROSOFT-CDO-ALLDAYEVENT:FALSE
SUMMARY:Business 4 Breakfast
DESCRIPTION:Major General Abe Turner\, the Executive Director of South Carolina's Department of Employment and Workforce (DEW)\, is responsible for the overall administration and management of the Department.  With the implementation of the Workforce Investment Act of 1998\, one of his major focuses has been the development of the South Carolina One-Stop Workforce System to meet the needs of the State's businesses\, job seekers and those who want to further their careers all in a single location.
X-ALT-DESC;FMTTYPE=text/html:Major General Abe Turner\, the Executive Director of South Carolina&#39\;s Department of Employment and Workforce (DEW)\, is responsible for the overall administration and management of the Department.&nbsp\; With the implementation of the Workforce Investment Act of 1998\, one of his major focuses has been the development of the South Carolina One-Stop Workforce System to meet the needs of the State&#39\;s businesses\, job seekers and those who want to further their careers all in a single location.
LOCATION:Hilton Garden Inn\, 1500 Queen Street\, Beaufort
UID:e.1212.4606
SEQUENCE:3
DTSTAMP:20260422T150609Z
URL:http://business.beaufortchamber.org/events/details/business-4-breakfast-10-16-2012-4606
END:VEVENT

END:VCALENDAR
