BEGIN:VCALENDAR
VERSION:2.0
PRODID:-//ChamberMaster//Event Calendar 2.0//EN
METHOD:PUBLISH
X-PUBLISHED-TTL:P3D
REFRESH-INTERVAL:P3D
CALSCALE:GREGORIAN
BEGIN:VEVENT
DTSTART:20130603T120000Z
DTEND:20130603T130000Z
X-MICROSOFT-CDO-ALLDAYEVENT:FALSE
SUMMARY:Business 4 Breakfast - Congressman Mark Sanford
DESCRIPTION:Business for Breakfast - featuring Congressman Mark Sanford as the speaker\n\nHilton Garden Inn\n\n8 am to 9 am\n\nMonday\, June 3rd
X-ALT-DESC;FMTTYPE=text/html:Business for Breakfast - featuring Congressman Mark Sanford as the speaker<br />\nHilton Garden Inn<br />\n8 am to 9 am<br />\nMonday\, June 3rd
LOCATION:Hilton Garden Inn
UID:e.1212.5015
SEQUENCE:3
DTSTAMP:20260422T012234Z
URL:http://business.beaufortchamber.org/events/details/business-4-breakfast-congressman-mark-sanford-06-03-2013-5015
END:VEVENT

END:VCALENDAR
