BEGIN:VCALENDAR
VERSION:2.0
PRODID:-//ChamberMaster//Event Calendar 2.0//EN
METHOD:PUBLISH
X-PUBLISHED-TTL:P3D
REFRESH-INTERVAL:P3D
CALSCALE:GREGORIAN
BEGIN:VEVENT
DTSTART:20120111T130000Z
DTEND:20120111T143000Z
X-MICROSOFT-CDO-ALLDAYEVENT:FALSE
SUMMARY:Business 4 Breakfast - Congressman Tim Scott
DESCRIPTION:With redistricting\, Congressman Scott's new district is expected to include Beaufort County following the 2012 elections.  He will be introducing himself to the Beaufort business community and sharing his views for 2012 in Washington.
X-ALT-DESC;FMTTYPE=text/html:<span style="font-size: 8pt"><span style="color: black"><span style="font-family: verdana\, sans-serif"><span style="font-family: verdana">With redistricting\, Congressman Scott&#39\;s new district is expected to include Beaufort County following the 2012 elections.&nbsp\; <span style="font-size: 8pt"><span style="color: black"><span style="font-family: verdana\, sans-serif">He will be introducing himself to the Beaufort business community and sharing his views for 2012 in Washington.&nbsp\;<br />\n<br />\n&nbsp\;</span></span></span></span></span><br />\n<br />\n&nbsp\;</span></span>
LOCATION:Historic Beaufort Arsenal (2nd Floor) 713 Craven Street\, Beaufort
UID:e.1212.4493
SEQUENCE:3
DTSTAMP:20260423T040942Z
URL:http://business.beaufortchamber.org/events/details/business-4-breakfast-congressman-tim-scott-01-11-2012-4493
END:VEVENT

END:VCALENDAR
