BEGIN:VCALENDAR
VERSION:2.0
PRODID:-//ChamberMaster//Event Calendar 2.0//EN
METHOD:PUBLISH
X-PUBLISHED-TTL:P3D
REFRESH-INTERVAL:P3D
CALSCALE:GREGORIAN
BEGIN:VEVENT
DTSTART:20130814T120000Z
DTEND:20130814T133000Z
X-MICROSOFT-CDO-ALLDAYEVENT:FALSE
SUMMARY:Business 4 Breakfast - Topic and Mini Expo: Emergency Preparedness
DESCRIPTION:Officials from Beaufort County Emergency Management will give us important information and tips to help prepare for the Hurricane Season.  The time to prepare is now and you will learn what you need to do to protect your family\, home\, and business.  Speaker:  Todd Ferguson\, Director\, Beaufort County Emergency Management\n\n\n\n$10 Members\, $20 Non Members
X-ALT-DESC;FMTTYPE=text/html:Officials from Beaufort County Emergency Management will give us important&nbsp\;information and tips to help prepare for the Hurricane Season.&nbsp\; The time to prepare is now and you will learn what you need to do to protect your family\, home\, and business.&nbsp\; Speaker:&nbsp\; Todd Ferguson\, Director\, Beaufort County Emergency Management<br />\n<br />\n$10 Members\, $20 Non Members
LOCATION:Hilton Garden Inn\, 1500 Queen Street\, Beaufort
UID:e.1212.5027
SEQUENCE:3
DTSTAMP:20260421T214055Z
URL:http://business.beaufortchamber.org/events/details/business-4-breakfast-topic-and-mini-expo-emergency-preparedness-08-14-2013-5027
END:VEVENT

END:VCALENDAR
