BEGIN:VCALENDAR
VERSION:2.0
PRODID:-//ChamberMaster//Event Calendar 2.0//EN
METHOD:PUBLISH
X-PUBLISHED-TTL:P3D
REFRESH-INTERVAL:P3D
CALSCALE:GREGORIAN
BEGIN:VEVENT
DTSTART:20140109T223000Z
DTEND:20140110T000000Z
X-MICROSOFT-CDO-ALLDAYEVENT:FALSE
SUMMARY:Business After Hours
DESCRIPTION:Please join us for Business After Hours on January 9 at Kazoobie Kazoos and New South Shirts at 12 John Gault Road from 5:30pm to 7:00pm.\n\n\n\nFood will be provided by Bricks on Boundary and Beverages will be provided by Cry Babies Tavern & The Backyard Bar.\n\n\n\nThere will be live music from The Bull Grapes featuring such instruments as the Kazoo and the Wazoo.\n\n\n\nLots of great door prizes to win\, too\, including Free Advertising opportunities and more...you won't want to miss it!\n\n\n\nAnd everyone who comes gets to make their own kazoo!
X-ALT-DESC;FMTTYPE=text/html:Please join us for Business After Hours on January 9 at Kazoobie Kazoos and New South Shirts at 12 John Gault Road from 5:30pm to 7:00pm.<br />\n<br />\nFood will be provided by Bricks on Boundary and Beverages will be provided by Cry Babies Tavern &amp\; The Backyard Bar.<br />\n<br />\nThere will be live music from The Bull Grapes featuring such instruments as the Kazoo and the Wazoo.<br />\n<br />\nLots of great door prizes to win\, too\, including&nbsp\;Free Advertising opportunities and more...you won&#39\;t want to miss it!<br />\n<br />\nAnd everyone who comes gets to make their own kazoo!
LOCATION:Kazoobie Kazoos and New South Shirts 12 John Gault Road\, Beaufort Everyone gets to build a kazoo!
UID:e.1212.5084
SEQUENCE:3
DTSTAMP:20260421T132234Z
URL:http://business.beaufortchamber.org/events/details/business-after-hours-01-09-2014-5084
END:VEVENT

END:VCALENDAR
