BEGIN:VCALENDAR
VERSION:2.0
PRODID:-//ChamberMaster//Event Calendar 2.0//EN
METHOD:PUBLISH
X-PUBLISHED-TTL:P3D
REFRESH-INTERVAL:P3D
CALSCALE:GREGORIAN
BEGIN:VEVENT
DTSTART:20140213T223000Z
DTEND:20140214T000000Z
X-MICROSOFT-CDO-ALLDAYEVENT:FALSE
SUMMARY:Business After Hours
DESCRIPTION:Hosted by Beaufort Medical Equipment and Valpak of the Lowcountry
X-ALT-DESC;FMTTYPE=text/html:Hosted by Beaufort Medical Equipment&nbsp\;and Valpak of the Lowcountry
LOCATION:2127 Boundary Street - Suite 5\, Beaufort
UID:e.1212.5177
SEQUENCE:3
DTSTAMP:20260421T113923Z
URL:http://business.beaufortchamber.org/events/details/business-after-hours-02-13-2014-5177
END:VEVENT

END:VCALENDAR
