BEGIN:VCALENDAR
VERSION:2.0
PRODID:-//ChamberMaster//Event Calendar 2.0//EN
METHOD:PUBLISH
X-PUBLISHED-TTL:P3D
REFRESH-INTERVAL:P3D
CALSCALE:GREGORIAN
BEGIN:VEVENT
DTSTART:20140313T213000Z
DTEND:20140313T230000Z
X-MICROSOFT-CDO-ALLDAYEVENT:FALSE
SUMMARY:Business After Hours
DESCRIPTION:Hosted By: Kinghorn Insurance Agency of Beaufort and Goodwill Industries of Lower SC
X-ALT-DESC;FMTTYPE=text/html:Hosted By: Kinghorn Insurance Agency of Beaufort and Goodwill Industries of Lower SC
LOCATION:910 Carteret Street\, Beaufort
UID:e.1212.5218
SEQUENCE:3
DTSTAMP:20260421T092210Z
URL:http://business.beaufortchamber.org/events/details/business-after-hours-03-13-2014-5218
END:VEVENT

END:VCALENDAR
