BEGIN:VCALENDAR
VERSION:2.0
PRODID:-//ChamberMaster//Event Calendar 2.0//EN
METHOD:PUBLISH
X-PUBLISHED-TTL:P3D
REFRESH-INTERVAL:P3D
CALSCALE:GREGORIAN
BEGIN:VEVENT
DTSTART:20130711T213000Z
DTEND:20130711T230000Z
X-MICROSOFT-CDO-ALLDAYEVENT:FALSE
SUMMARY:Business After Hours
DESCRIPTION:Callawassie Island River Club\, 201 Callawassie Drive\, Callawassie Island\n\nThursday\, July 11th  5:30 - 7 pm\n\n\n\nFree - All are Welcome!
X-ALT-DESC;FMTTYPE=text/html:<span style="font-size: medium\;"><span style="font-family: calibri\;">Callawassie Island River Club\, 201 Callawassie Drive\, Callawassie Island</span></span><br />\nThursday\, July 11th&nbsp\; 5:30 - 7 pm<br />\n<br />\nFree - All are Welcome!<br />\n<span style="display: none\;">&nbsp\;</span>
LOCATION:210 Callawassie Drive\, Callawassie Island
UID:e.1212.4678
SEQUENCE:3
DTSTAMP:20260421T232317Z
URL:http://business.beaufortchamber.org/events/details/business-after-hours-07-11-2013-4678
END:VEVENT

END:VCALENDAR
