BEGIN:VCALENDAR
VERSION:2.0
PRODID:-//ChamberMaster//Event Calendar 2.0//EN
METHOD:PUBLISH
X-PUBLISHED-TTL:P3D
REFRESH-INTERVAL:P3D
CALSCALE:GREGORIAN
BEGIN:VEVENT
DTSTART:20150813T213000Z
DTEND:20150813T230000Z
X-MICROSOFT-CDO-ALLDAYEVENT:FALSE
SUMMARY:Business After Hours
DESCRIPTION:Beaufort's Premier Monthly Networking Event!\n\n\n\nPlease join us as Southern Carpet Wholesale hosts our Business After Hours!!\n\n\n\nAs always\, lots of great door prizes including Free Advertising in The Island News. So don't forget your cash!
X-ALT-DESC;FMTTYPE=text/html:Beaufort&#39\;s Premier Monthly Networking Event!<br />\n<br />\nPlease join us as Southern Carpet Wholesale hosts our Business After Hours!!<br />\n<br />\nAs always\, lots of great door prizes including Free Advertising in The Island News. So don&#39\;t forget your cash!<br />\n<br />\n&nbsp\;
LOCATION:41-D Robert Smalls Parkway In The Plaza Shopping Center near the theater
UID:e.1212.6543
SEQUENCE:3
DTSTAMP:20260420T122428Z
URL:http://business.beaufortchamber.org/events/details/business-after-hours-08-13-2015-6543
END:VEVENT

END:VCALENDAR
