BEGIN:VCALENDAR
VERSION:2.0
PRODID:-//ChamberMaster//Event Calendar 2.0//EN
METHOD:PUBLISH
X-PUBLISHED-TTL:P3D
REFRESH-INTERVAL:P3D
CALSCALE:GREGORIAN
BEGIN:VEVENT
DTSTART:20130411T213000Z
DTEND:20130411T230000Z
X-MICROSOFT-CDO-ALLDAYEVENT:FALSE
SUMMARY:Business After Hours - A Seaside Getaway\, Q on Bay and Friends of Hunting Island
DESCRIPTION:Hosted by:  A Seaside Getaway\, Q on Bay\, and Friends of Hunting Island State Park\n\n\n\nThursday\, April 11th  5:30 pm to 7:00 pm\n\n\n\n1551 Sea Island Parkway\, St. Helena Island\, SC\n\n\n\nFREE - All are welcome!
X-ALT-DESC;FMTTYPE=text/html:Hosted by:&nbsp\; A Seaside Getaway\, Q on Bay\, and Friends of Hunting Island State Park<br />\n<br />\nThursday\, April 11th&nbsp\; 5:30 pm to 7:00 pm<br />\n<br />\n1551 Sea Island Parkway\, St. Helena Island\, SC<br />\n<br />\nFREE - All are welcome!
LOCATION:A Seaside Getaway\, 1551 Sea Island Parkway\, St. Helena Island
UID:e.1212.4658
SEQUENCE:3
DTSTAMP:20260422T051349Z
URL:http://business.beaufortchamber.org/events/details/business-after-hours-a-seaside-getaway-q-on-bay-and-friends-of-hunting-island-04-11-2013-4658
END:VEVENT

END:VCALENDAR
