BEGIN:VCALENDAR
VERSION:2.0
PRODID:-//ChamberMaster//Event Calendar 2.0//EN
METHOD:PUBLISH
X-PUBLISHED-TTL:P3D
REFRESH-INTERVAL:P3D
CALSCALE:GREGORIAN
BEGIN:VEVENT
DTSTART:20120112T223000Z
DTEND:20120113T000000Z
X-MICROSOFT-CDO-ALLDAYEVENT:FALSE
SUMMARY:Business After Hours - Auston Chase Apartment Homes
DESCRIPTION:Auston Chase Apartment Homes will host our first Business After Hours of the new year.  Business After Hours is our premier monthly networking event.
X-ALT-DESC;FMTTYPE=text/html:<span style="color:black\;"><span style="font-family:verdana\,sans-serif\;"><span style="font-size:8.0pt\;">Auston Chase Apartment Homes will host our first Business After Hours of the new year.&nbsp\; Business After Hours is our premier monthly networking event.&nbsp\; </span></span></span>
LOCATION:Auston Chase Apartment Homes 59 Summerlake Circle Ridgeland\, SC 29936
UID:e.1212.4495
SEQUENCE:3
DTSTAMP:20260423T040954Z
URL:http://business.beaufortchamber.org/events/details/business-after-hours-auston-chase-apartment-homes-01-12-2012-4495
END:VEVENT

END:VCALENDAR
