BEGIN:VCALENDAR
VERSION:2.0
PRODID:-//ChamberMaster//Event Calendar 2.0//EN
METHOD:PUBLISH
X-PUBLISHED-TTL:P3D
REFRESH-INTERVAL:P3D
CALSCALE:GREGORIAN
BEGIN:VEVENT
DTSTART:20120712T213000Z
DTEND:20120712T230000Z
X-MICROSOFT-CDO-ALLDAYEVENT:FALSE
SUMMARY:Business After Hours - Beaufort Commerce Park - Off Hwy 21 - corner of Parker Drive and Schork Road
DESCRIPTION:Business After Hours - hosted by the City of Beaufort
X-ALT-DESC;FMTTYPE=text/html:Business After Hours - hosted by the City of Beaufort
LOCATION:Turn off Hwy 21 onto Parker Drive - go past the Hwy 21 Drive In - event will be on the right at the entrance to the Beaufort Commerce Park.
UID:e.1212.4538
SEQUENCE:3
DTSTAMP:20260424T085830Z
URL:http://business.beaufortchamber.org/events/details/business-after-hours-beaufort-commerce-park-off-hwy-21-corner-of-parker-drive-and-schork-road-07-12-2012-4538
END:VEVENT

END:VCALENDAR
